BEGIN:VCALENDAR
VERSION:2.0
PRODID:-//ChamberMaster//Event Calendar 2.0//EN
METHOD:PUBLISH
X-PUBLISHED-TTL:P1H
REFRESH-INTERVAL:P1H
CALSCALE:GREGORIAN
BEGIN:VTIMEZONE
TZID:America/New_York
BEGIN:DAYLIGHT
RRULE:FREQ=YEARLY;BYMONTH=3;BYDAY=2SU
DTSTART:20070101T000000
TZOFFSETFROM:-0500
TZOFFSETTO:-0400
TZNAME:Eastern Daylight Time
END:DAYLIGHT
BEGIN:STANDARD
RRULE:FREQ=YEARLY;BYMONTH=11;BYDAY=1SU
DTSTART:20070101T000000
TZOFFSETFROM:-0400
TZOFFSETTO:-0500
TZNAME:Eastern Standard Time
END:STANDARD
END:VTIMEZONE
BEGIN:VEVENT
DTSTART;TZID=America/New_York:20260427T070000
DTEND;TZID=America/New_York:20260427T080000
X-MICROSOFT-CDO-ALLDAYEVENT:FALSE
SUMMARY:Call of Prayer for Our Land and Our People
DESCRIPTION:The community is invited to join us for a Call of Prayer for Our Land and Our People on Monday\, April 27 at 7:00 AM.\n\nThis meaningful gathering is being held in partnership with the Madison County Cattlemen’s Association\, Madison County Chamber of Commerce Agricultural Promotions Committee\, Madison County Farm Bureau\, and Madison County Young Farmers.\n\nThe time of prayer will be led by Pastor Chris Bailey of Crossroads Community Church and comes at a particularly important moment as Georgia continues to experience significant drought conditions impacting our land\, farms\, and communities.\n\nWe invite all who feel led to attend as we come together in faith\, unity\, and hope for rain\, protection\, and strength for our people and those who steward the land.
X-ALT-DESC;FMTTYPE=text/html:The community is invited to join us for a Call of Prayer for Our Land and Our People on Monday\, April 27 at 7:00 AM.\n\nThis meaningful gathering is being held in partnership with the Madison County Cattlemen’s Association\, Madison County Chamber of Commerce Agricultural Promotions Committee\, Madison County Farm Bureau\, and Madison County Young Farmers.\n\nThe time of prayer will be led by Pastor Chris Bailey of Crossroads Community Church and comes at a particularly important moment as Georgia continues to experience significant drought conditions impacting our land\, farms\, and communities.\n\nWe invite all who feel led to attend as we come together in faith\, unity\, and hope for rain\, protection\, and strength for our people and those who steward the land.
LOCATION:175 Hope Thompson Lane Danielsville GA 30633
UID:e.2045.1450456
SEQUENCE:3
DTSTAMP:20260424T030116Z
URL:https://business.madisoncountyga.org/chamber-calendar/Details/call-of-prayer-for-our-land-and-our-people-1718110?sourceTypeId=Hub
END:VEVENT
END:VCALENDAR
