BEGIN:VCALENDAR
VERSION:2.0
PRODID:-//ChamberMaster//Event Calendar 2.0//EN
METHOD:PUBLISH
X-PUBLISHED-TTL:P1H
REFRESH-INTERVAL:P1H
CALSCALE:GREGORIAN
BEGIN:VTIMEZONE
TZID:America/New_York
BEGIN:DAYLIGHT
RRULE:FREQ=YEARLY;BYMONTH=3;BYDAY=2SU
DTSTART:20070101T000000
TZOFFSETFROM:-0500
TZOFFSETTO:-0400
TZNAME:Eastern Daylight Time
END:DAYLIGHT
BEGIN:STANDARD
RRULE:FREQ=YEARLY;BYMONTH=11;BYDAY=1SU
DTSTART:20070101T000000
TZOFFSETFROM:-0400
TZOFFSETTO:-0500
TZNAME:Eastern Standard Time
END:STANDARD
END:VTIMEZONE
BEGIN:VEVENT
DTSTART;TZID=America/New_York:20260511T100000
DTEND;TZID=America/New_York:20260511T130000
X-MICROSOFT-CDO-ALLDAYEVENT:FALSE
SUMMARY:Centennial Celebration: Mr. Jack Estell’s 100th Birthday
DESCRIPTION:The Madison County Senior Center invites the community to join in celebrating a truly remarkable milestone as they honor Mr. Jack Estell on his 100th birthday. Reaching a century of life is an extraordinary occasion\, and the Center looks forward to filling the room with as much joy\, love\, and appreciation as Mr. Estell has shared with those who have had the privilege of knowing him over the past 100 years.The celebration will be held on Monday\, May 11th at 10:00 AM and will continue "until the fun is over" at the Madison County Senior Center\, located at 1265 Hwy 98 West in Danielsville\, GA. Lunch and dessert will be served at approximately 11:00 AM\, followed by a time of sharing stories and cherished memories.Those planning to attend are asked to RSVP by May 1st\, 2026\, by contacting Jimmie Moss at jmoss@madisonco.us or 706-795-6249. The Madison County Senior Center looks forward to celebrating this historic milestone with family\, friends\, and community members.
X-ALT-DESC;FMTTYPE=text/html:<!DOCTYPE html><html><head><title></title></head><body aria-disabled="false"><p>The Madison County Senior Center invites the community to join in celebrating a truly remarkable milestone as they honor <strong fr-original-style="" style="font-weight: 700\;">Mr. Jack Estell on his 100th birthday</strong>. Reaching a century of life is an extraordinary occasion\, and the Center looks forward to filling the room with as much joy\, love\, and appreciation as Mr. Estell has shared with those who have had the privilege of knowing him over the past 100 years.</p><p>The celebration will be held on Monday\, May 11th at 10:00 AM and will continue &ldquo\;until the fun is over&rdquo\; at the Madison County Senior Center\, located at 1265 Hwy 98 West in Danielsville\, GA. Lunch and dessert will be served at approximately 11:00 AM\, followed by a time of sharing stories and cherished memories.</p><p><strong fr-original-style="" style="font-weight: 700\;"><span style="background-color: rgb(247\, 218\, 100)\;">Those planning to attend are asked to RSVP by May 1st\, 2026\, by contacting Jimmie Moss at jmoss@madisonco.us or 706-795-6249</span></strong><span style="background-color: rgb(247\, 218\, 100)\;">. </span></p><p>The Madison County Senior Center looks forward to celebrating this historic milestone with family\, friends\, and community members.</p></body></html>
LOCATION:1265 GA-98 Danielsville GA 30633
UID:e.2045.1447480
SEQUENCE:3
DTSTAMP:20260424T025735Z
URL:https://business.madisoncountyga.org/chamber-calendar/Details/centennial-celebration-mr-jack-estell-s-100th-birthday-1714422?sourceTypeId=Hub
END:VEVENT
END:VCALENDAR
