BEGIN:VCALENDAR
VERSION:2.0
PRODID:-//ChamberMaster//Event Calendar 2.0//EN
METHOD:PUBLISH
X-PUBLISHED-TTL:P1H
REFRESH-INTERVAL:P1H
CALSCALE:GREGORIAN
BEGIN:VTIMEZONE
TZID:America/New_York
BEGIN:DAYLIGHT
RRULE:FREQ=YEARLY;BYMONTH=3;BYDAY=2SU
DTSTART:20070101T000000
TZOFFSETFROM:-0500
TZOFFSETTO:-0400
TZNAME:Eastern Daylight Time
END:DAYLIGHT
BEGIN:STANDARD
RRULE:FREQ=YEARLY;BYMONTH=11;BYDAY=1SU
DTSTART:20070101T000000
TZOFFSETFROM:-0400
TZOFFSETTO:-0500
TZNAME:Eastern Standard Time
END:STANDARD
END:VTIMEZONE
BEGIN:VEVENT
DTSTART;TZID=America/New_York:20260806T180000
DTEND;TZID=America/New_York:20260806T200000
X-MICROSOFT-CDO-ALLDAYEVENT:FALSE
SUMMARY:How to Start a Business in Georgia
DESCRIPTION:Starting a business can be overwhelming\, especially when you don't know what you don't know. Whether you're just starting to brainstorm your idea or ready to turn your passion into a profitable venture\, this class will give you a roadmap to success. You'll learn what you need to start a business in Georgia\, from assessing the feasibility of your idea to marketing\, finding financing\, building a team\, and operating legally. You'll leave with actionable steps\, essential tools\, and resources to start your business on a strong foundation. Small businesses are the backbone of America\; this class will help you start yours.Register Here!
X-ALT-DESC;FMTTYPE=text/html:<!DOCTYPE html><html><head><title></title></head><body aria-disabled="false"><div data-e-type="widget" data-element_type="widget" data-id="d1c0b5e" data-widget_type="jet-listing-dynamic-field.default" style='box-sizing: border-box\; --flex-direction: initial\; --flex-wrap: initial\; --justify-content: initial\; --align-items: initial\; --align-content: initial\; --gap: initial\; --flex-basis: initial\; --flex-grow: 0\; --flex-shrink: 0\; --order: initial\; --align-self: initial\; align-self: auto\; flex: 0 0 auto\; order: 0\; place-content: normal\; align-items: normal\; flex-flow: row\; gap: 20px\; position: relative\; --widgets-spacing: 20px 20px\; --widgets-spacing-row: 20px\; --widgets-spacing-column: 20px\; --swiper-theme-color: #000\; --swiper-navigation-size: 44px\; --swiper-pagination-bullet-size: 6px\; --swiper-pagination-bullet-horizontal-gap: 6px\; margin-block-end: 0px\; min-width: 0px\; --kit-widget-spacing: 0px\; width: 100%\; max-width: 100%\; --container-widget-width: 100%\; --container-widget-flex-grow: 0\; color: rgb(33\, 33\, 33)\; font-family: "Merriweather Sans"\, sans-serif\; font-size: 15px\; font-style: normal\; font-variant-ligatures: normal\; font-variant-caps: normal\; font-weight: 400\; letter-spacing: normal\; orphans: 2\; text-align: start\; text-indent: 0px\; text-transform: none\; widows: 2\; word-spacing: 0px\; -webkit-text-stroke-width: 0px\; white-space: normal\; background-color: rgb(255\, 255\, 255)\; text-decoration-thickness: initial\; text-decoration-style: initial\; text-decoration-color: initial\;'><div style="box-sizing: border-box\; transition: background 0.3s\, border 0.3s\, border-radius 0.3s\, box-shadow 0.3s\, transform 0.4s\; height: 52px\; margin: 0px\;"><div style="box-sizing: border-box\; display: flex\; align-items: center\; justify-content: flex-start\;"><div style="box-sizing: border-box\; display: inline-flex\; align-items: center\; max-width: 100%\; width: auto\; padding: 0px\;"><div style='box-sizing: border-box\; display: block\; max-width: 100%\; color: rgb(0\, 78\, 96)\; font-family: "Merriweather Sans"\, sans-serif\; font-size: 20px\; font-weight: 700\; line-height: 1.3em\; text-align: left\; width: auto\;'>Starting a business can be overwhelming\, especially when you don&rsquo\;t know what you don&rsquo\;t know.</div></div></div></div></div><div data-e-type="widget" data-element_type="widget" data-id="502029d" data-widget_type="jet-listing-dynamic-field.default" style='box-sizing: border-box\; --flex-direction: initial\; --flex-wrap: initial\; --justify-content: initial\; --align-items: initial\; --align-content: initial\; --gap: initial\; --flex-basis: initial\; --flex-grow: initial\; --flex-shrink: initial\; --order: initial\; --align-self: flex-start\; align-self: flex-start\; flex: 0 1 auto\; order: 0\; place-content: normal\; align-items: normal\; flex-flow: row\; gap: 20px\; position: relative\; --widgets-spacing: 20px 20px\; --widgets-spacing-row: 20px\; --widgets-spacing-column: 20px\; --swiper-theme-color: #000\; --swiper-navigation-size: 44px\; --swiper-pagination-bullet-size: 6px\; --swiper-pagination-bullet-horizontal-gap: 6px\; margin-block-end: 0px\; min-width: 0px\; --kit-widget-spacing: 0px\; max-width: 100%\; color: rgb(33\, 33\, 33)\; font-family: "Merriweather Sans"\, sans-serif\; font-size: 15px\; font-style: normal\; font-variant-ligatures: normal\; font-variant-caps: normal\; font-weight: 400\; letter-spacing: normal\; orphans: 2\; text-align: start\; text-indent: 0px\; text-transform: none\; widows: 2\; word-spacing: 0px\; -webkit-text-stroke-width: 0px\; white-space: normal\; background-color: rgb(255\, 255\, 255)\; text-decoration-thickness: initial\; text-decoration-style: initial\; text-decoration-color: initial\;'><div style="box-sizing: border-box\; transition: background 0.3s\, border 0.3s\, border-radius 0.3s\, box-shadow 0.3s\, transform 0.4s\; height: 200px\;"><div style="box-sizing: border-box\; display: flex\; align-items: center\; justify-content: flex-start\;"><div style="box-sizing: border-box\; display: inline-flex\; align-items: center\; max-width: 100%\; width: auto\;"><div style="box-sizing: border-box\; display: block\; max-width: 100%\; font-size: 17px\; line-height: 23px\; text-align: left\; width: auto\;"><p style="box-sizing: border-box\; margin-block: 0px 16px\;">&nbsp\;Whether you&rsquo\;re just starting to brainstorm your idea or ready to turn your passion into a profitable venture\, this class will give you a roadmap to success. You&rsquo\;ll learn what you need to start a business in Georgia\, from assessing the feasibility of your idea to marketing\, finding financing\, building a team\, and operating legally. You&rsquo\;ll leave with actionable steps\, essential tools\, and resources to start your business on a strong foundation. Small businesses are the backbone of America\; this class will help you start yours.</p><p style="box-sizing: border-box\; margin-block: 0px 16px\;"><a fr-original-class="fr-strong" fr-original-style="" href="https://georgiasbdc.org/training-program/0827-001-ath-how-to-start-a-business-in-georgia/" style="user-select: auto\; font-weight: 700\;"><strong fr-original-style="" style="font-weight: 700\;">Register Here!</strong></a></p></div></div></div></div></div></body></html>
LOCATION:
UID:e.2045.1449928
SEQUENCE:3
DTSTAMP:20260424T025734Z
URL:https://business.madisoncountyga.org/chamber-calendar/Details/how-to-start-a-business-in-georgia-1717498?sourceTypeId=Hub
END:VEVENT
END:VCALENDAR
