BEGIN:VCALENDAR
VERSION:2.0
PRODID:-//ChamberMaster//Event Calendar 2.0//EN
METHOD:PUBLISH
X-PUBLISHED-TTL:P1H
REFRESH-INTERVAL:P1H
CALSCALE:GREGORIAN
BEGIN:VTIMEZONE
TZID:America/New_York
BEGIN:DAYLIGHT
RRULE:FREQ=YEARLY;BYMONTH=3;BYDAY=2SU
DTSTART:20070101T000000
TZOFFSETFROM:-0500
TZOFFSETTO:-0400
TZNAME:Eastern Daylight Time
END:DAYLIGHT
BEGIN:STANDARD
RRULE:FREQ=YEARLY;BYMONTH=11;BYDAY=1SU
DTSTART:20070101T000000
TZOFFSETFROM:-0400
TZOFFSETTO:-0500
TZNAME:Eastern Standard Time
END:STANDARD
END:VTIMEZONE
BEGIN:VEVENT
DTSTART;TZID=America/New_York:20270130T100000
DTEND;TZID=America/New_York:20270130T160000
X-MICROSOFT-CDO-ALLDAYEVENT:FALSE
SUMMARY:Ila Farmers Market with Beck Farm
DESCRIPTION:Fresh from the farm favorites! From flowers to veggies and so much more\, right in downtown Ila Ga!
X-ALT-DESC;FMTTYPE=text/html:Fresh from the farm favorites! From flowers to veggies and so much more\, right in downtown Ila Ga!
LOCATION:South Main St Ila 30647
UID:e.2045.1445370
SEQUENCE:3
DTSTAMP:20260424T025841Z
URL:https://business.madisoncountyga.org/chamber-calendar/Details/ila-farmers-market-with-beck-farm-1711909?sourceTypeId=Hub
END:VEVENT
END:VCALENDAR
