BEGIN:VCALENDAR
VERSION:2.0
PRODID:-//ChamberMaster//Event Calendar 2.0//EN
METHOD:PUBLISH
X-PUBLISHED-TTL:P1H
REFRESH-INTERVAL:P1H
CALSCALE:GREGORIAN
BEGIN:VTIMEZONE
TZID:America/New_York
BEGIN:DAYLIGHT
RRULE:FREQ=YEARLY;BYMONTH=3;BYDAY=2SU
DTSTART:20070101T000000
TZOFFSETFROM:-0500
TZOFFSETTO:-0400
TZNAME:Eastern Daylight Time
END:DAYLIGHT
BEGIN:STANDARD
RRULE:FREQ=YEARLY;BYMONTH=11;BYDAY=1SU
DTSTART:20070101T000000
TZOFFSETFROM:-0400
TZOFFSETTO:-0500
TZNAME:Eastern Standard Time
END:STANDARD
END:VTIMEZONE
BEGIN:VEVENT
DTSTART;TZID=America/New_York:20260805T090000
DTEND;TZID=America/New_York:20260805T110000
X-MICROSOFT-CDO-ALLDAYEVENT:FALSE
SUMMARY:So\, You Want to Sell Your Business?
DESCRIPTION:According to recent polling\, 6 in 10 business owners say they intend to sell their businesses in the next 10 years.Most have given a lot of thought to someday making money when they sell\, but have not invested time and resources preparing their company to be sold. This course will walk through some of the critical steps of a business sale\; from making the decision to sell\, preparing the business for sale\, and going through the ultimate sale process.Register Here!
X-ALT-DESC;FMTTYPE=text/html:<!DOCTYPE html><html><head><title></title></head><body aria-disabled="false"><div style='box-sizing: border-box\; display: block\; max-width: 100%\; color: rgb(0\, 78\, 96)\; font-family: "Merriweather Sans"\, sans-serif\; font-size: 20px\; font-weight: 700\; line-height: 1.3em\; text-align: left\; width: auto\;'>According to recent polling\, 6 in 10 business owners say they intend to sell their businesses in the next 10 years.</div><div style="box-sizing: border-box\; display: block\; max-width: 100%\; font-size: 17px\; line-height: 23px\; text-align: left\; width: auto\;">Most have given a lot of thought to someday making money when they sell\, but have not invested time and resources preparing their company to be sold. This course will walk through some of the critical steps of a business sale\; from making the decision to sell\, preparing the business for sale\, and going through the ultimate sale process.</div><p><a fr-original-class="fr-strong" fr-original-style="" href="https://georgiasbdc.org/training-program/0712-002-ath-so-you-want-to-sell-your-business/" style="user-select: auto\; font-weight: 700\;">Register Here!</a></p></body></html>
LOCATION:
UID:e.2045.1449924
SEQUENCE:3
DTSTAMP:20260424T030116Z
URL:https://business.madisoncountyga.org/chamber-calendar/Details/so-you-want-to-sell-your-business-1717495?sourceTypeId=Hub
END:VEVENT
END:VCALENDAR
