BEGIN:VCALENDAR
VERSION:2.0
PRODID:-//ChamberMaster//Event Calendar 2.0//EN
METHOD:PUBLISH
X-PUBLISHED-TTL:P1H
REFRESH-INTERVAL:P1H
CALSCALE:GREGORIAN
BEGIN:VTIMEZONE
TZID:America/New_York
BEGIN:DAYLIGHT
RRULE:FREQ=YEARLY;BYMONTH=3;BYDAY=2SU
DTSTART:20070101T000000
TZOFFSETFROM:-0500
TZOFFSETTO:-0400
TZNAME:Eastern Daylight Time
END:DAYLIGHT
BEGIN:STANDARD
RRULE:FREQ=YEARLY;BYMONTH=11;BYDAY=1SU
DTSTART:20070101T000000
TZOFFSETFROM:-0400
TZOFFSETTO:-0500
TZNAME:Eastern Standard Time
END:STANDARD
END:VTIMEZONE
BEGIN:VEVENT
DTSTART;TZID=America/New_York:20260718T100000
DTEND;TZID=America/New_York:20260718T180000
X-MICROSOFT-CDO-ALLDAYEVENT:FALSE
SUMMARY:SUMMERWEEN Art Show at Madison Manor
DESCRIPTION:Historic House Tour & Art Displays with vendors\, live music entertainment & more! Bring the whole family and enjoy the spooky & unique decor of Madison Manor where every room tells a story. Enjoy small bites & beverages while you view beautiful artwork\, crafts and creations by talented local artisans.  There will be bouncy houses going & the Kona Ice truck will be on site to keep everyone cool with their snow cones.
X-ALT-DESC;FMTTYPE=text/html:<!DOCTYPE html><html><head><title></title></head><body aria-disabled="false"><p>Historic House Tour &amp\; Art Displays with vendors\, live music entertainment &amp\; more! Bring the whole family and enjoy the spooky &amp\; unique decor of Madison Manor where every room tells a story. Enjoy small bites &amp\; beverages while you view beautiful artwork\, crafts and creations by talented local artisans. &nbsp\;There will be bouncy houses going &amp\; the Kona Ice truck will be on site to keep everyone cool with their snow cones. &nbsp\;</p></body></html>
LOCATION:1045 Crawford w long street Danielsville GA 30366
UID:e.2045.1449840
SEQUENCE:3
DTSTAMP:20260424T025736Z
URL:https://business.madisoncountyga.org/chamber-calendar/Details/summerween-art-show-at-madison-manor-1717344?sourceTypeId=Hub
END:VEVENT
END:VCALENDAR
