BEGIN:VCALENDAR
VERSION:2.0
PRODID:-//ChamberMaster//Event Calendar 2.0//EN
METHOD:PUBLISH
X-PUBLISHED-TTL:P1H
REFRESH-INTERVAL:P1H
CALSCALE:GREGORIAN
BEGIN:VTIMEZONE
TZID:America/New_York
BEGIN:DAYLIGHT
RRULE:FREQ=YEARLY;BYMONTH=3;BYDAY=2SU
DTSTART:20070101T000000
TZOFFSETFROM:-0500
TZOFFSETTO:-0400
TZNAME:Eastern Daylight Time
END:DAYLIGHT
BEGIN:STANDARD
RRULE:FREQ=YEARLY;BYMONTH=11;BYDAY=1SU
DTSTART:20070101T000000
TZOFFSETFROM:-0400
TZOFFSETTO:-0500
TZNAME:Eastern Standard Time
END:STANDARD
END:VTIMEZONE
BEGIN:VEVENT
DTSTART;TZID=America/New_York:20260916T083000
DTEND;TZID=America/New_York:20260916T123000
X-MICROSOFT-CDO-ALLDAYEVENT:FALSE
SUMMARY:Supervisor Skills for the Modern Manager
DESCRIPTION:This workshop helps participants discover new management styles\, communication styles\, progressive discipline processes and more to help your employees improve and reduce turnover.This course is designed for business owners that supervise employees or have employees that supervise other employees. Through this program\, participants will help owners and supervisory employees become better managers. Participants will be exposed to management styles\, communication styles\, social styles\, situational awareness\, time management\, hiring\, training and the progressive discipline process to help employees improve and reduce turnover. This class exposes participants to what constitutes as quality customer service and how to implement a strong customer service program.Register Here!
X-ALT-DESC;FMTTYPE=text/html:<!DOCTYPE html><html><head><title></title></head><body aria-disabled="false"><div data-e-type="widget" data-element_type="widget" data-id="d1c0b5e" data-widget_type="jet-listing-dynamic-field.default" style='box-sizing: border-box\; --flex-direction: initial\; --flex-wrap: initial\; --justify-content: initial\; --align-items: initial\; --align-content: initial\; --gap: initial\; --flex-basis: initial\; --flex-grow: 0\; --flex-shrink: 0\; --order: initial\; --align-self: initial\; align-self: auto\; flex: 0 0 auto\; order: 0\; place-content: normal\; align-items: normal\; flex-flow: row\; gap: 20px\; position: relative\; --widgets-spacing: 20px 20px\; --widgets-spacing-row: 20px\; --widgets-spacing-column: 20px\; --swiper-theme-color: #000\; --swiper-navigation-size: 44px\; --swiper-pagination-bullet-size: 6px\; --swiper-pagination-bullet-horizontal-gap: 6px\; margin-block-end: 0px\; min-width: 0px\; --kit-widget-spacing: 0px\; width: 100%\; max-width: 100%\; --container-widget-width: 100%\; --container-widget-flex-grow: 0\; color: rgb(33\, 33\, 33)\; font-family: "Merriweather Sans"\, sans-serif\; font-size: 15px\; font-style: normal\; font-variant-ligatures: normal\; font-variant-caps: normal\; font-weight: 400\; letter-spacing: normal\; orphans: 2\; text-align: start\; text-indent: 0px\; text-transform: none\; widows: 2\; word-spacing: 0px\; -webkit-text-stroke-width: 0px\; white-space: normal\; background-color: rgb(255\, 255\, 255)\; text-decoration-thickness: initial\; text-decoration-style: initial\; text-decoration-color: initial\;'><div style="box-sizing: border-box\; transition: background 0.3s\, border 0.3s\, border-radius 0.3s\, box-shadow 0.3s\, transform 0.4s\; height: 104px\; margin: 0px\;"><div style="box-sizing: border-box\; display: flex\; align-items: center\; justify-content: flex-start\;"><div style="box-sizing: border-box\; display: inline-flex\; align-items: center\; max-width: 100%\; width: auto\; padding: 0px\;"><div style='box-sizing: border-box\; display: block\; max-width: 100%\; color: rgb(0\, 78\, 96)\; font-family: "Merriweather Sans"\, sans-serif\; font-size: 20px\; font-weight: 700\; line-height: 1.3em\; text-align: left\; width: auto\;'>This workshop helps participants discover new management styles\, communication styles\, progressive discipline processes and more to help your employees improve and reduce turnover.</div></div></div></div></div><div data-e-type="widget" data-element_type="widget" data-id="502029d" data-widget_type="jet-listing-dynamic-field.default" style='box-sizing: border-box\; --flex-direction: initial\; --flex-wrap: initial\; --justify-content: initial\; --align-items: initial\; --align-content: initial\; --gap: initial\; --flex-basis: initial\; --flex-grow: initial\; --flex-shrink: initial\; --order: initial\; --align-self: flex-start\; align-self: flex-start\; flex: 0 1 auto\; order: 0\; place-content: normal\; align-items: normal\; flex-flow: row\; gap: 20px\; position: relative\; --widgets-spacing: 20px 20px\; --widgets-spacing-row: 20px\; --widgets-spacing-column: 20px\; --swiper-theme-color: #000\; --swiper-navigation-size: 44px\; --swiper-pagination-bullet-size: 6px\; --swiper-pagination-bullet-horizontal-gap: 6px\; margin-block-end: 0px\; min-width: 0px\; --kit-widget-spacing: 0px\; max-width: 100%\; color: rgb(33\, 33\, 33)\; font-family: "Merriweather Sans"\, sans-serif\; font-size: 15px\; font-style: normal\; font-variant-ligatures: normal\; font-variant-caps: normal\; font-weight: 400\; letter-spacing: normal\; orphans: 2\; text-align: start\; text-indent: 0px\; text-transform: none\; widows: 2\; word-spacing: 0px\; -webkit-text-stroke-width: 0px\; white-space: normal\; background-color: rgb(255\, 255\, 255)\; text-decoration-thickness: initial\; text-decoration-style: initial\; text-decoration-color: initial\;'><div style="box-sizing: border-box\; transition: background 0.3s\, border 0.3s\, border-radius 0.3s\, box-shadow 0.3s\, transform 0.4s\; height: 246px\;"><div style="box-sizing: border-box\; display: flex\; align-items: center\; justify-content: flex-start\;"><div style="box-sizing: border-box\; display: inline-flex\; align-items: center\; max-width: 100%\; width: auto\;"><div style="box-sizing: border-box\; display: block\; max-width: 100%\; font-size: 17px\; line-height: 23px\; text-align: left\; width: auto\;"><p style="box-sizing: border-box\; margin-block: 0px 16px\;">This course is designed for business owners that supervise employees or have employees that supervise other employees. Through this program\, participants will help owners and supervisory employees become better managers. Participants will be exposed to management styles\, communication styles\, social styles\, situational awareness\, time management\, hiring\, training and the progressive discipline process to help employees improve and reduce turnover. This class exposes participants to what constitutes as quality customer service and how to implement a strong customer service program.</p><p style="box-sizing: border-box\; margin-block: 0px 16px\;"><a fr-original-class="fr-strong" fr-original-style="" href="https://georgiasbdc.org/training-program/0488-027-ath-supervisor-skills-for-the-modern-manager/" style="user-select: auto\; font-weight: 700\;">Register Here!</a></p></div></div></div></div></div></body></html>
LOCATION:
UID:e.2045.1449930
SEQUENCE:3
DTSTAMP:20260424T025737Z
URL:https://business.madisoncountyga.org/chamber-calendar/Details/supervisor-skills-for-the-modern-manager-1717500?sourceTypeId=Hub
END:VEVENT
END:VCALENDAR
