BEGIN:VCALENDAR
VERSION:2.0
PRODID:-//ChamberMaster//Event Calendar 2.0//EN
METHOD:PUBLISH
X-PUBLISHED-TTL:P1H
REFRESH-INTERVAL:P1H
CALSCALE:GREGORIAN
BEGIN:VTIMEZONE
TZID:America/New_York
BEGIN:DAYLIGHT
RRULE:FREQ=YEARLY;BYMONTH=3;BYDAY=2SU
DTSTART:20070101T000000
TZOFFSETFROM:-0500
TZOFFSETTO:-0400
TZNAME:Eastern Daylight Time
END:DAYLIGHT
BEGIN:STANDARD
RRULE:FREQ=YEARLY;BYMONTH=11;BYDAY=1SU
DTSTART:20070101T000000
TZOFFSETFROM:-0400
TZOFFSETTO:-0500
TZNAME:Eastern Standard Time
END:STANDARD
END:VTIMEZONE
BEGIN:VEVENT
DTSTART;TZID=America/New_York:20260720T093000
DTEND;TZID=America/New_York:20260720T113000
X-MICROSOFT-CDO-ALLDAYEVENT:FALSE
SUMMARY:Unlocking Capital: An Owner’s Guide to Funding a Small Business
DESCRIPTION:Are you ready to turn the key and unlock the capital your small business needs to thrive?This course is designed specifically for small business owners and entrepreneurs seeking to understand and access various funding options.The course will discuss the ins and outs of the different types of capital\, including SBA-guaranteed loans\, traditional bank loans\, non-traditional funding sources\, equity\, and little-known specialty lending programs\, and weigh the pros and cons of each.The course will also highlight the financial management strategies that help owners think like a lender and ensure their business is lender-ready.Register Here!
X-ALT-DESC;FMTTYPE=text/html:<!DOCTYPE html><html><head><title></title></head><body aria-disabled="false"><div data-e-type="widget" data-element_type="widget" data-id="d1c0b5e" data-widget_type="jet-listing-dynamic-field.default" style='box-sizing: border-box\; --flex-direction: initial\; --flex-wrap: initial\; --justify-content: initial\; --align-items: initial\; --align-content: initial\; --gap: initial\; --flex-basis: initial\; --flex-grow: 0\; --flex-shrink: 0\; --order: initial\; --align-self: initial\; align-self: auto\; flex: 0 0 auto\; order: 0\; place-content: normal\; align-items: normal\; flex-flow: row\; gap: 20px\; position: relative\; --widgets-spacing: 20px 20px\; --widgets-spacing-row: 20px\; --widgets-spacing-column: 20px\; --swiper-theme-color: #000\; --swiper-navigation-size: 44px\; --swiper-pagination-bullet-size: 6px\; --swiper-pagination-bullet-horizontal-gap: 6px\; margin-block-end: 0px\; min-width: 0px\; --kit-widget-spacing: 0px\; width: 100%\; max-width: 100%\; --container-widget-width: 100%\; --container-widget-flex-grow: 0\; color: rgb(33\, 33\, 33)\; font-family: "Merriweather Sans"\, sans-serif\; font-size: 15px\; font-style: normal\; font-variant-ligatures: normal\; font-variant-caps: normal\; font-weight: 400\; letter-spacing: normal\; orphans: 2\; text-align: start\; text-indent: 0px\; text-transform: none\; widows: 2\; word-spacing: 0px\; -webkit-text-stroke-width: 0px\; white-space: normal\; background-color: rgb(255\, 255\, 255)\; text-decoration-thickness: initial\; text-decoration-style: initial\; text-decoration-color: initial\;'><div style="box-sizing: border-box\; transition: background 0.3s\, border 0.3s\, border-radius 0.3s\, box-shadow 0.3s\, transform 0.4s\; height: 52px\; margin: 0px\;"><div style="box-sizing: border-box\; display: flex\; align-items: center\; justify-content: flex-start\;"><div style="box-sizing: border-box\; display: inline-flex\; align-items: center\; max-width: 100%\; width: auto\; padding: 0px\;"><div style='box-sizing: border-box\; display: block\; max-width: 100%\; color: rgb(0\, 78\, 96)\; font-family: "Merriweather Sans"\, sans-serif\; font-size: 20px\; font-weight: 700\; line-height: 1.3em\; text-align: left\; width: auto\;'>Are you ready to turn the key and unlock the capital your small business needs to thrive?</div></div></div></div></div><div data-e-type="widget" data-element_type="widget" data-id="502029d" data-widget_type="jet-listing-dynamic-field.default" style='box-sizing: border-box\; --flex-direction: initial\; --flex-wrap: initial\; --justify-content: initial\; --align-items: initial\; --align-content: initial\; --gap: initial\; --flex-basis: initial\; --flex-grow: initial\; --flex-shrink: initial\; --order: initial\; --align-self: flex-start\; align-self: flex-start\; flex: 0 1 auto\; order: 0\; place-content: normal\; align-items: normal\; flex-flow: row\; gap: 20px\; position: relative\; --widgets-spacing: 20px 20px\; --widgets-spacing-row: 20px\; --widgets-spacing-column: 20px\; --swiper-theme-color: #000\; --swiper-navigation-size: 44px\; --swiper-pagination-bullet-size: 6px\; --swiper-pagination-bullet-horizontal-gap: 6px\; margin-block-end: 0px\; min-width: 0px\; --kit-widget-spacing: 0px\; max-width: 100%\; color: rgb(33\, 33\, 33)\; font-family: "Merriweather Sans"\, sans-serif\; font-size: 15px\; font-style: normal\; font-variant-ligatures: normal\; font-variant-caps: normal\; font-weight: 400\; letter-spacing: normal\; orphans: 2\; text-align: start\; text-indent: 0px\; text-transform: none\; widows: 2\; word-spacing: 0px\; -webkit-text-stroke-width: 0px\; white-space: normal\; background-color: rgb(255\, 255\, 255)\; text-decoration-thickness: initial\; text-decoration-style: initial\; text-decoration-color: initial\;'><div style="box-sizing: border-box\; transition: background 0.3s\, border 0.3s\, border-radius 0.3s\, box-shadow 0.3s\, transform 0.4s\; height: 278px\;"><div style="box-sizing: border-box\; display: flex\; align-items: center\; justify-content: flex-start\;"><div style="box-sizing: border-box\; display: inline-flex\; align-items: center\; max-width: 100%\; width: auto\;"><div style="box-sizing: border-box\; display: block\; max-width: 100%\; font-size: 17px\; line-height: 23px\; text-align: left\; width: auto\;"><p style="box-sizing: border-box\; margin-block: 0px 16px\;">This course is designed specifically for small business owners and entrepreneurs seeking to understand and access various funding options.</p><p style="box-sizing: border-box\; margin-block: 0px 16px\;">The course will discuss the ins and outs of the different types of capital\, including SBA-guaranteed loans\, traditional bank loans\, non-traditional funding sources\, equity\, and little-known specialty lending programs\, and weigh the pros and cons of each.</p><p style="box-sizing: border-box\; margin-block: 0px 16px\;">The course will also highlight the financial management strategies that help owners think like a lender and ensure their business is lender-ready.</p><p style="box-sizing: border-box\; margin-block: 0px 16px\;"><a fr-original-class="fr-strong" fr-original-style="" href="https://georgiasbdc.org/training-program/0649-038-ath-unlocking-capital-an-owners-guide-to-funding-a-small-business/" style="user-select: auto\; font-weight: 700\;">Register Here!</a></p></div></div></div></div></div></body></html>
LOCATION:
UID:e.2045.1449922
SEQUENCE:3
DTSTAMP:20260424T030046Z
URL:https://business.madisoncountyga.org/chamber-calendar/Details/unlocking-capital-an-owner-s-guide-to-funding-a-small-business-1717493?sourceTypeId=Hub
END:VEVENT
END:VCALENDAR
